BEGIN:VCALENDAR
VERSION:2.0
PRODID:-//https://calenda-formation.labocleo.org
X-WR-CALNAME:Calenda
X-WR-TIMEZONE:Europe/Paris
CALSCALE:GREGORIAN
X-WR-CALDESC:The calendar for arts, humanities and social sciences
METHOD:PUBLISH
BEGIN:VEVENT
DTSTART;VALUE=DATE:20130223
DTEND;VALUE=DATE:20130224
UID:239457-20130223@calenda.revues.org
SUMMARY:Rap music and academia
URL:https://calenda-formation.labocleo.org/239457
DESCRIPTION:Cette journée vise à réunir des rappeurs\, des chercheurs en sociologie et des étudiants afin de permettre une réflexion sur les enjeux artistiques\, sociaux et scientifiques du rap français contemporain. … @plus_info https://calenda-formation.labocleo.org/239457
LOCATION:Paris
END:VEVENT
END:VCALENDAR
