BEGIN:VCALENDAR
VERSION:2.0
PRODID:-//https://calenda-formation.labocleo.org
X-WR-CALNAME:Calenda
X-WR-TIMEZONE:Europe/Paris
CALSCALE:GREGORIAN
X-WR-CALDESC:The calendar for arts, humanities and social sciences
METHOD:PUBLISH
BEGIN:VEVENT
DTSTART;VALUE=DATE:20130315
DTEND;VALUE=DATE:20130316
UID:239719-20130315@calenda.revues.org
SUMMARY:Forms and possibilities of communication in the Middle Ages
URL:https://calenda-formation.labocleo.org/239719
DESCRIPTION:Une définition appropriée à ce que l’on entend par « La communication au Moyen Âge » n’existe pas. Derrière le concept général de « communication » se cache une multitude de significations et d’expressions différentes. La théorie et la pratique ont l… @plus_info https://calenda-formation.labocleo.org/239719
LOCATION:Paris
END:VEVENT
END:VCALENDAR
