BEGIN:VCALENDAR
VERSION:2.0
PRODID:-//https://calenda-formation.labocleo.org
X-WR-CALNAME:Calenda
X-WR-TIMEZONE:Europe/Paris
CALSCALE:GREGORIAN
X-WR-CALDESC:The calendar for arts, humanities and social sciences
METHOD:PUBLISH
BEGIN:VEVENT
DTSTART;VALUE=DATE:20130615
DTEND;VALUE=DATE:20130616
UID:239729-20130615@calenda.revues.org
SUMMARY:Ciencia\, literatura e imaginación: Jules Verne y la aventura del conocimiento
URL:https://calenda-formation.labocleo.org/239729
DESCRIPTION:El Congreso toma como referente la figura de Jules Verne\, novelista francés considerado como un hombre adelantado a su época\, al poseer una intuición y talento con los que supo presentir y materializar en el campo de la fantasía\, muchas de las conqui… @plus_info https://calenda-formation.labocleo.org/239729
LOCATION:
END:VEVENT
END:VCALENDAR
