BEGIN:VCALENDAR
VERSION:2.0
PRODID:-//https://calenda-formation.labocleo.org
X-WR-CALNAME:Calenda
X-WR-TIMEZONE:Europe/Paris
CALSCALE:GREGORIAN
X-WR-CALDESC:The calendar for arts, humanities and social sciences
METHOD:PUBLISH
BEGIN:VEVENT
DTSTART;VALUE=DATE:20130320
DTEND;VALUE=DATE:20130321
UID:239797-20130320@calenda.revues.org
SUMMARY:"Hikikomori" - acute social withdrawal among youth: a comparison between France and Japan
URL:https://calenda-formation.labocleo.org/239797
DESCRIPTION:Pourquoi de plus en plus d’adolescents et de jeunes adultes se retirent des relations sociales attendues (études\, emploi ou recherche d’emploi\, relations sociales) et s’isolent dans leur chambre pendant plusieurs mois voire plusieurs années ? Quels s… @plus_info https://calenda-formation.labocleo.org/239797
LOCATION:Paris
END:VEVENT
BEGIN:VEVENT
DTSTART;VALUE=DATE:20130321
DTEND;VALUE=DATE:20130322
UID:239797-20130321@calenda.revues.org
SUMMARY:"Hikikomori" - acute social withdrawal among youth: a comparison between France and Japan
URL:https://calenda-formation.labocleo.org/239797
DESCRIPTION:Pourquoi de plus en plus d’adolescents et de jeunes adultes se retirent des relations sociales attendues (études\, emploi ou recherche d’emploi\, relations sociales) et s’isolent dans leur chambre pendant plusieurs mois voire plusieurs années ? Quels s… @plus_info https://calenda-formation.labocleo.org/239797
LOCATION:Paris
END:VEVENT
END:VCALENDAR
