BEGIN:VCALENDAR
VERSION:2.0
PRODID:-//https://calenda-formation.labocleo.org
X-WR-CALNAME:Calenda
X-WR-TIMEZONE:Europe/Paris
CALSCALE:GREGORIAN
X-WR-CALDESC:The calendar for arts, humanities and social sciences
METHOD:PUBLISH
BEGIN:VEVENT
DTSTART;VALUE=DATE:20130310
DTEND;VALUE=DATE:20130311
UID:239961-20130310@calenda.revues.org
SUMMARY:Taiwan studies doctoral study day
URL:https://calenda-formation.labocleo.org/239961
DESCRIPTION:Le 2\, 3 et 4 mai 2013 aura lieu à l’ENS de Lyon le dixième congrès européen des études taïwanaises. Profitant de la tenue de cette manifestation dans la capitale des Gaules\, l’Association francophone d’études taïwanaises (AFET) organise le 30 avril e… @plus_info https://calenda-formation.labocleo.org/239961
LOCATION:Lyon
END:VEVENT
END:VCALENDAR
