BEGIN:VCALENDAR
VERSION:2.0
PRODID:-//https://calenda-formation.labocleo.org
X-WR-CALNAME:Calenda
X-WR-TIMEZONE:Europe/Paris
CALSCALE:GREGORIAN
X-WR-CALDESC:The calendar for arts, humanities and social sciences
METHOD:PUBLISH
BEGIN:VEVENT
DTSTART;VALUE=DATE:20130530
DTEND;VALUE=DATE:20130531
UID:240067-20130530@calenda.revues.org
SUMMARY:Inequalities and social justice
URL:https://calenda-formation.labocleo.org/240067
DESCRIPTION:Il ne suffit pas de décrire et de mesurer les inégalités sociales pour en faire directement un objet sociologique. Il importe aussi et surtout de savoir comment les individus perçoivent ces inégalités\, quelles sont celles qui leur paraissent visibles… @plus_info https://calenda-formation.labocleo.org/240067
LOCATION:Bordeaux
END:VEVENT
BEGIN:VEVENT
DTSTART;VALUE=DATE:20130531
DTEND;VALUE=DATE:20130601
UID:240067-20130531@calenda.revues.org
SUMMARY:Inequalities and social justice
URL:https://calenda-formation.labocleo.org/240067
DESCRIPTION:Il ne suffit pas de décrire et de mesurer les inégalités sociales pour en faire directement un objet sociologique. Il importe aussi et surtout de savoir comment les individus perçoivent ces inégalités\, quelles sont celles qui leur paraissent visibles… @plus_info https://calenda-formation.labocleo.org/240067
LOCATION:Bordeaux
END:VEVENT
BEGIN:VEVENT
DTSTART;VALUE=DATE:20130601
DTEND;VALUE=DATE:20130602
UID:240067-20130601@calenda.revues.org
SUMMARY:Inequalities and social justice
URL:https://calenda-formation.labocleo.org/240067
DESCRIPTION:Il ne suffit pas de décrire et de mesurer les inégalités sociales pour en faire directement un objet sociologique. Il importe aussi et surtout de savoir comment les individus perçoivent ces inégalités\, quelles sont celles qui leur paraissent visibles… @plus_info https://calenda-formation.labocleo.org/240067
LOCATION:Bordeaux
END:VEVENT
END:VCALENDAR
