BEGIN:VCALENDAR
VERSION:2.0
PRODID:-//https://calenda-formation.labocleo.org
X-WR-CALNAME:Calenda
X-WR-TIMEZONE:Europe/Paris
CALSCALE:GREGORIAN
X-WR-CALDESC:Le calendrier des lettres et sciences humaines et sociales
METHOD:PUBLISH
BEGIN:VEVENT
DTSTART;VALUE=DATE:20130515
DTEND;VALUE=DATE:20130516
UID:240111-20130515@calenda.revues.org
SUMMARY:Le prix de l'homme 
URL:https://calenda-formation.labocleo.org/240111
DESCRIPTION:Suite aux séminaires organisés dans le cadre du groupe Jacov du FRAMESPA sur « Le prix de l'homme »\, la publication d'un numéro spécial des Cahiers du Framespa est prévue sur ce thème. Toute communication sera bienvenue\, et en particulier celle de je… Weitere Informationen https://calenda-formation.labocleo.org/240111
LOCATION:Toulouse
END:VEVENT
END:VCALENDAR
