BEGIN:VCALENDAR
VERSION:2.0
PRODID:-//https://calenda-formation.labocleo.org
X-WR-CALNAME:Calenda
X-WR-TIMEZONE:Europe/Paris
CALSCALE:GREGORIAN
X-WR-CALDESC:Le calendrier des lettres et sciences humaines et sociales
METHOD:PUBLISH
BEGIN:VEVENT
DTSTART;VALUE=DATE:20130324
DTEND;VALUE=DATE:20130325
UID:240150-20130324@calenda.revues.org
SUMMARY:From A Sudan to Another
URL:https://calenda-formation.labocleo.org/240150
DESCRIPTION:The separation of the two Sudans in July 2011 created as many opportunities as it aroused difficulties and threats\, therefore opening new research fields in Social Sciences. The themes of analysis regarding political and social reshuffling are many\, … Weitere Informationen https://calenda-formation.labocleo.org/240150
LOCATION:Addis Abeba
END:VEVENT
END:VCALENDAR
