BEGIN:VCALENDAR
VERSION:2.0
PRODID:-//https://calenda-formation.labocleo.org
X-WR-CALNAME:Calenda
X-WR-TIMEZONE:Europe/Paris
CALSCALE:GREGORIAN
X-WR-CALDESC:The calendar for arts, humanities and social sciences
METHOD:PUBLISH
BEGIN:VEVENT
DTSTART;VALUE=DATE:20130501
DTEND;VALUE=DATE:20130502
UID:240408-20130501@calenda.revues.org
SUMMARY:Workers' environment in the 20th century
URL:https://calenda-formation.labocleo.org/240408
DESCRIPTION:Au cours de la dernière décennie\, l'histoire environnementale a connu un fort développement dans les universités francophones\, et l'histoire du travail connaît actuellement un profond renouvellement. Pourtant\, peu de travaux lient encore ces deux cha… @plus_info https://calenda-formation.labocleo.org/240408
LOCATION:Paris
END:VEVENT
END:VCALENDAR
