BEGIN:VCALENDAR
VERSION:2.0
PRODID:-//https://calenda-formation.labocleo.org
X-WR-CALNAME:Calenda
X-WR-TIMEZONE:Europe/Paris
CALSCALE:GREGORIAN
X-WR-CALDESC:The calendar for arts, humanities and social sciences
METHOD:PUBLISH
BEGIN:VEVENT
DTSTART;VALUE=DATE:20130404
DTEND;VALUE=DATE:20130405
UID:240415-20130404@calenda.revues.org
SUMMARY:The integration of a religious minority within a State
URL:https://calenda-formation.labocleo.org/240415
DESCRIPTION:Le Béarn a été au XVIe siècle un territoire où la Réforme a été instituée comme religion d’État par la loi. Ce modèle a profondément marqué l’histoire du protestantisme européen\, avant que ce territoire soit intégré au royaume de France. Le colloque … @plus_info https://calenda-formation.labocleo.org/240415
LOCATION:Pau
END:VEVENT
BEGIN:VEVENT
DTSTART;VALUE=DATE:20130405
DTEND;VALUE=DATE:20130406
UID:240415-20130405@calenda.revues.org
SUMMARY:The integration of a religious minority within a State
URL:https://calenda-formation.labocleo.org/240415
DESCRIPTION:Le Béarn a été au XVIe siècle un territoire où la Réforme a été instituée comme religion d’État par la loi. Ce modèle a profondément marqué l’histoire du protestantisme européen\, avant que ce territoire soit intégré au royaume de France. Le colloque … @plus_info https://calenda-formation.labocleo.org/240415
LOCATION:Pau
END:VEVENT
BEGIN:VEVENT
DTSTART;VALUE=DATE:20130406
DTEND;VALUE=DATE:20130407
UID:240415-20130406@calenda.revues.org
SUMMARY:The integration of a religious minority within a State
URL:https://calenda-formation.labocleo.org/240415
DESCRIPTION:Le Béarn a été au XVIe siècle un territoire où la Réforme a été instituée comme religion d’État par la loi. Ce modèle a profondément marqué l’histoire du protestantisme européen\, avant que ce territoire soit intégré au royaume de France. Le colloque … @plus_info https://calenda-formation.labocleo.org/240415
LOCATION:Pau
END:VEVENT
END:VCALENDAR
