BEGIN:VCALENDAR
VERSION:2.0
PRODID:-//https://calenda-formation.labocleo.org
X-WR-CALNAME:Calenda
X-WR-TIMEZONE:Europe/Paris
CALSCALE:GREGORIAN
X-WR-CALDESC:The calendar for arts, humanities and social sciences
METHOD:PUBLISH
BEGIN:VEVENT
DTSTART;VALUE=DATE:20130510
DTEND;VALUE=DATE:20130511
UID:240734-20130510@calenda.revues.org
SUMMARY:Tea and Coffee: Cultural Representations in language and practice
URL:https://calenda-formation.labocleo.org/240734
DESCRIPTION:First discovered in the Orient\, tea and coffee are today the drinks most frequently consumed daily\, right after water. This geographic and historical pervasion makes an inquiry into their cultural representations in language and practice seem fruitfu… @plus_info https://calenda-formation.labocleo.org/240734
LOCATION:Lyon
END:VEVENT
END:VCALENDAR
