BEGIN:VCALENDAR
VERSION:2.0
PRODID:-//https://calenda-formation.labocleo.org
X-WR-CALNAME:Calenda
X-WR-TIMEZONE:Europe/Paris
CALSCALE:GREGORIAN
X-WR-CALDESC:Le calendrier des lettres et sciences humaines et sociales
METHOD:PUBLISH
BEGIN:VEVENT
DTSTART;VALUE=DATE:20130322
DTEND;VALUE=DATE:20130323
UID:240775-20130322@calenda.revues.org
SUMMARY:Les discours institutionnels en confrontation
URL:https://calenda-formation.labocleo.org/240775
DESCRIPTION:La problématique des discours institutionnels est d'une certaine manière indissociable de la genèse de l'analyse du discours\, telle du moins qu'elle s'est d'emblée formulée en France\, sous la plume des protagonistes du domaine. Depuis les débuts de l… Weitere Informationen https://calenda-formation.labocleo.org/240775
LOCATION:Paris
END:VEVENT
END:VCALENDAR
