BEGIN:VCALENDAR
VERSION:2.0
PRODID:-//https://calenda-formation.labocleo.org
X-WR-CALNAME:Calenda
X-WR-TIMEZONE:Europe/Paris
CALSCALE:GREGORIAN
X-WR-CALDESC:The calendar for arts, humanities and social sciences
METHOD:PUBLISH
BEGIN:VEVENT
DTSTART;VALUE=DATE:20130615
DTEND;VALUE=DATE:20130616
UID:241427-20130615@calenda.revues.org
SUMMARY:Fables at school (19th-21st centuries): a European legacy?
URL:https://calenda-formation.labocleo.org/241427
DESCRIPTION:The HELICE international network (History of the Teaching of Literature: a European Comparison) organizes in Bordeaux\, 6th-8th November 2013\, an international conference on fable taken as a specific literary\, patrimonial and school genre. The objecti… @plus_info https://calenda-formation.labocleo.org/241427
LOCATION:Bordeaux
END:VEVENT
END:VCALENDAR
