BEGIN:VCALENDAR
VERSION:2.0
PRODID:-//https://calenda-formation.labocleo.org
X-WR-CALNAME:Calenda
X-WR-TIMEZONE:Europe/Paris
CALSCALE:GREGORIAN
X-WR-CALDESC:The calendar for arts, humanities and social sciences
METHOD:PUBLISH
BEGIN:VEVENT
DTSTART;VALUE=DATE:20130412
DTEND;VALUE=DATE:20130413
UID:241493-20130412@calenda.revues.org
SUMMARY:Cooperative\, mutualist dynamics
URL:https://calenda-formation.labocleo.org/241493
DESCRIPTION:Il s'agit de mieux situer la coopération et le mutuellisme dans l'ensemble plus vaste des solidarités. Coopération et mutuellisme supposent la possibilité d'interventions actives des individus et des groupes dans l'organisation de la vie collective. … @plus_info https://calenda-formation.labocleo.org/241493
LOCATION:Besançon
END:VEVENT
END:VCALENDAR
