BEGIN:VCALENDAR
VERSION:2.0
PRODID:-//https://calenda-formation.labocleo.org
X-WR-CALNAME:Calenda
X-WR-TIMEZONE:Europe/Paris
CALSCALE:GREGORIAN
X-WR-CALDESC:The calendar for arts, humanities and social sciences
METHOD:PUBLISH
BEGIN:VEVENT
DTSTART;VALUE=DATE:20130515
DTEND;VALUE=DATE:20130516
UID:241991-20130515@calenda.revues.org
SUMMARY:La force du mal dans l'œuvre de Dostoïevski
URL:https://calenda-formation.labocleo.org/241991
DESCRIPTION:La portée métaphysique des romans de Dostoïevski fait de cet auteur un des piliers de la culture mondiale. L’ensemble de son œuvre est concerné par cette dimension\, des romans à vocation sociale de ses débuts aux Frères Karamazov. L’analyse des référ… @plus_info https://calenda-formation.labocleo.org/241991
LOCATION:Brest
END:VEVENT
END:VCALENDAR
