BEGIN:VCALENDAR
VERSION:2.0
PRODID:-//https://calenda-formation.labocleo.org
X-WR-CALNAME:Calenda
X-WR-TIMEZONE:Europe/Paris
CALSCALE:GREGORIAN
X-WR-CALDESC:The calendar for arts, humanities and social sciences
METHOD:PUBLISH
BEGIN:VEVENT
DTSTART;VALUE=DATE:20130415
DTEND;VALUE=DATE:20130416
UID:242358-20130415@calenda.revues.org
SUMMARY:The history of public solar energy policies
URL:https://calenda-formation.labocleo.org/242358
DESCRIPTION:À l’heure où la reformulation d’une politique de l’énergie solaire déclenche controverses et prises de position autour de la question des tarifs et de l’existence d’une filière industrielle européenne\, il paraît nécessaire de donner une dimension tem… @plus_info https://calenda-formation.labocleo.org/242358
LOCATION:Chambéry
END:VEVENT
END:VCALENDAR
