BEGIN:VCALENDAR
VERSION:2.0
PRODID:-//https://calenda-formation.labocleo.org
X-WR-CALNAME:Calenda
X-WR-TIMEZONE:Europe/Paris
CALSCALE:GREGORIAN
X-WR-CALDESC:Le calendrier des lettres et sciences humaines et sociales
METHOD:PUBLISH
BEGIN:VEVENT
DTSTART;VALUE=DATE:20130328
DTEND;VALUE=DATE:20130329
UID:242795-20130328@calenda.revues.org
SUMMARY:Chantiers des Lumières
URL:https://calenda-formation.labocleo.org/242795
DESCRIPTION:Les éditeurs de l’Encyclopédie\, somme des savoirs et projet philosophique\, entendaient\, disait Diderot\, « changer la façon commune de penser ». Que savons-nous aujourd’hui de cette entreprise d’édition des Lumières ? Qu’en faisons-nous ? Où en sommes… Weitere Informationen https://calenda-formation.labocleo.org/242795
LOCATION:Paris
END:VEVENT
BEGIN:VEVENT
DTSTART;VALUE=DATE:20130329
DTEND;VALUE=DATE:20130330
UID:242795-20130329@calenda.revues.org
SUMMARY:Chantiers des Lumières
URL:https://calenda-formation.labocleo.org/242795
DESCRIPTION:Les éditeurs de l’Encyclopédie\, somme des savoirs et projet philosophique\, entendaient\, disait Diderot\, « changer la façon commune de penser ». Que savons-nous aujourd’hui de cette entreprise d’édition des Lumières ? Qu’en faisons-nous ? Où en sommes… Weitere Informationen https://calenda-formation.labocleo.org/242795
LOCATION:Paris
END:VEVENT
END:VCALENDAR
