BEGIN:VCALENDAR
VERSION:2.0
PRODID:-//https://calenda-formation.labocleo.org
X-WR-CALNAME:Calenda
X-WR-TIMEZONE:Europe/Paris
CALSCALE:GREGORIAN
X-WR-CALDESC:The calendar for arts, humanities and social sciences
METHOD:PUBLISH
BEGIN:VEVENT
DTSTART;VALUE=DATE:20130515
DTEND;VALUE=DATE:20130516
UID:242971-20130515@calenda.revues.org
SUMMARY:Valeurs et réalités du blanc : une facette de l’aventure textile
URL:https://calenda-formation.labocleo.org/242971
DESCRIPTION:Les prochaines journées d’étude organisées par l’AFET (Association française pour l'étude du textile) abordent pour la première fois le thème de la couleur. C’est par le blanc que\, paradoxalement\, nous avons choisi de commencer. Tout d’abord\, on tent… @plus_info https://calenda-formation.labocleo.org/242971
LOCATION:Paris
END:VEVENT
END:VCALENDAR
