BEGIN:VCALENDAR
VERSION:2.0
PRODID:-//https://calenda-formation.labocleo.org
X-WR-CALNAME:Calenda
X-WR-TIMEZONE:Europe/Paris
CALSCALE:GREGORIAN
X-WR-CALDESC:Le calendrier des lettres et sciences humaines et sociales
METHOD:PUBLISH
BEGIN:VEVENT
DTSTART;VALUE=DATE:20130524
DTEND;VALUE=DATE:20130525
UID:244105-20130524@calenda.revues.org
SUMMARY:Écrire l’histoire du pénis à l’époque moderne et contemporaine
URL:https://calenda-formation.labocleo.org/244105
DESCRIPTION:Les recherches historiques sur la masculinité et la virilité (françaises) se sont certes développées ces dernières années\, mais les hommes restent encore un impensé\, le point aveugle des discours et des travaux sur le genre et la sexualité. Bien que … Weitere Informationen https://calenda-formation.labocleo.org/244105
LOCATION:Paris
END:VEVENT
END:VCALENDAR
