BEGIN:VCALENDAR
VERSION:2.0
PRODID:-//https://calenda-formation.labocleo.org
X-WR-CALNAME:Calenda
X-WR-TIMEZONE:Europe/Paris
CALSCALE:GREGORIAN
X-WR-CALDESC:Le calendrier des lettres et sciences humaines et sociales
METHOD:PUBLISH
BEGIN:VEVENT
DTSTART;VALUE=DATE:20130429
DTEND;VALUE=DATE:20130430
UID:244141-20130429@calenda.revues.org
SUMMARY:Diversification et renouvellement des médiations
URL:https://calenda-formation.labocleo.org/244141
DESCRIPTION:Depuis 2006\, la conférence « Document numérique et société » s’est donnée pour mission d’apporter des éclairages sur les dimensions économiques et sociétales de la notion de « document numérique » à travers l’observation de la boucle reliant la produ… Weitere Informationen https://calenda-formation.labocleo.org/244141
LOCATION:Zagreb
END:VEVENT
BEGIN:VEVENT
DTSTART;VALUE=DATE:20130430
DTEND;VALUE=DATE:20130501
UID:244141-20130430@calenda.revues.org
SUMMARY:Diversification et renouvellement des médiations
URL:https://calenda-formation.labocleo.org/244141
DESCRIPTION:Depuis 2006\, la conférence « Document numérique et société » s’est donnée pour mission d’apporter des éclairages sur les dimensions économiques et sociétales de la notion de « document numérique » à travers l’observation de la boucle reliant la produ… Weitere Informationen https://calenda-formation.labocleo.org/244141
LOCATION:Zagreb
END:VEVENT
END:VCALENDAR
