BEGIN:VCALENDAR
VERSION:2.0
PRODID:-//https://calenda-formation.labocleo.org
X-WR-CALNAME:Calenda
X-WR-TIMEZONE:Europe/Paris
CALSCALE:GREGORIAN
X-WR-CALDESC:O calendário de letras e de ciências sociais e humanas
METHOD:PUBLISH
BEGIN:VEVENT
DTSTART;VALUE=DATE:20130531
DTEND;VALUE=DATE:20130601
UID:244535-20130531@calenda.revues.org
SUMMARY:Fragments d'érudition. Servius et le savoir antique
URL:https://calenda-formation.labocleo.org/244535
DESCRIPTION:Les Commentaires de Servius (4e-5e siècle de notre ère) sur les œuvres du poète Virgile (1er siècle av. J.-C.)\, ainsi que les ajouts anonymes du Servius Danielis\, constituent un maillon essentiel de la transmission du savoir antique jusqu’à nous. Le … @plus_info https://calenda-formation.labocleo.org/244535
LOCATION:Lyon
END:VEVENT
END:VCALENDAR
