BEGIN:VCALENDAR
VERSION:2.0
PRODID:-//https://calenda-formation.labocleo.org
X-WR-CALNAME:Calenda
X-WR-TIMEZONE:Europe/Paris
CALSCALE:GREGORIAN
X-WR-CALDESC:Le calendrier des lettres et sciences humaines et sociales
METHOD:PUBLISH
BEGIN:VEVENT
DTSTART;VALUE=DATE:20130531
DTEND;VALUE=DATE:20130601
UID:244703-20130531@calenda.revues.org
SUMMARY:Mères\, épouses\, filles de médecins ou de chirurgiens 
URL:https://calenda-formation.labocleo.org/244703
DESCRIPTION:Appel à communications pour la journée d’étude « Mères\, épouses\, filles de médecins ou de chirurgiens (XVIIIe siècle – début XXe siècle) » organisée par la thématique Santé et Société (Framespa\, université Toulouse II). Les intervenant-e-s étudieront… @plus_info https://calenda-formation.labocleo.org/244703
LOCATION:Toulouse
END:VEVENT
END:VCALENDAR
