BEGIN:VCALENDAR
VERSION:2.0
PRODID:-//https://calenda-formation.labocleo.org
X-WR-CALNAME:Calenda
X-WR-TIMEZONE:Europe/Paris
CALSCALE:GREGORIAN
X-WR-CALDESC:Le calendrier des lettres et sciences humaines et sociales
METHOD:PUBLISH
BEGIN:VEVENT
DTSTART;VALUE=DATE:20130411
DTEND;VALUE=DATE:20130412
UID:244836-20130411@calenda.revues.org
SUMMARY:L'avènement juridique de la victime
URL:https://calenda-formation.labocleo.org/244836
DESCRIPTION:La victime est omniprésente et ambiguë : il arrive\, en effet\, que le coupable soit la première victime des actes qu’il reproduit mimétiquement ; qu’un coupable devienne victime de l’institution judiciaire ou pénitentiaire ; qu’un coupable soit lui-mê… Weitere Informationen https://calenda-formation.labocleo.org/244836
LOCATION:Besançon
END:VEVENT
BEGIN:VEVENT
DTSTART;VALUE=DATE:20130412
DTEND;VALUE=DATE:20130413
UID:244836-20130412@calenda.revues.org
SUMMARY:L'avènement juridique de la victime
URL:https://calenda-formation.labocleo.org/244836
DESCRIPTION:La victime est omniprésente et ambiguë : il arrive\, en effet\, que le coupable soit la première victime des actes qu’il reproduit mimétiquement ; qu’un coupable devienne victime de l’institution judiciaire ou pénitentiaire ; qu’un coupable soit lui-mê… Weitere Informationen https://calenda-formation.labocleo.org/244836
LOCATION:Besançon
END:VEVENT
END:VCALENDAR
