BEGIN:VCALENDAR
VERSION:2.0
PRODID:-//https://calenda-formation.labocleo.org
X-WR-CALNAME:Calenda
X-WR-TIMEZONE:Europe/Paris
CALSCALE:GREGORIAN
X-WR-CALDESC:O calendário de letras e de ciências sociais e humanas
METHOD:PUBLISH
BEGIN:VEVENT
DTSTART;VALUE=DATE:20130531
DTEND;VALUE=DATE:20130601
UID:245077-20130531@calenda.revues.org
SUMMARY:Réprimer et soigner
URL:https://calenda-formation.labocleo.org/245077
DESCRIPTION:Les liens entre justice et psychiatrie sont anciens\, mais ils prennent aujourd’hui des formes nouvelles et variées. Cette journée d’étude propose d’étudier la situation particulière des soins pénalement ordonnés\, qu’il s’agisse des obligations et des… @plus_info https://calenda-formation.labocleo.org/245077
LOCATION:Nantes
END:VEVENT
END:VCALENDAR
