BEGIN:VCALENDAR
VERSION:2.0
PRODID:-//https://calenda-formation.labocleo.org
X-WR-CALNAME:Calenda
X-WR-TIMEZONE:Europe/Paris
CALSCALE:GREGORIAN
X-WR-CALDESC:The calendar for arts, humanities and social sciences
METHOD:PUBLISH
BEGIN:VEVENT
DTSTART;VALUE=DATE:20130531
DTEND;VALUE=DATE:20130601
UID:245180-20130531@calenda.revues.org
SUMMARY:Méthodologies de la recherche en sciences sociales
URL:https://calenda-formation.labocleo.org/245180
DESCRIPTION:L’objectif de cette formation d’une semaine est d’aborder les problèmes méthodologiques des chercheures et chercheurs engagés dans un doctorat en sciences humaines et sociales. Cette école d’été se structure autour de trois axes : la gestion de donné… @plus_info https://calenda-formation.labocleo.org/245180
LOCATION:Montreal
END:VEVENT
END:VCALENDAR
