BEGIN:VCALENDAR
VERSION:2.0
PRODID:-//https://calenda-formation.labocleo.org
X-WR-CALNAME:Calenda
X-WR-TIMEZONE:Europe/Paris
CALSCALE:GREGORIAN
X-WR-CALDESC:Le calendrier des lettres et sciences humaines et sociales
METHOD:PUBLISH
BEGIN:VEVENT
DTSTART;VALUE=DATE:20130620
DTEND;VALUE=DATE:20130621
UID:245470-20130620@calenda.revues.org
SUMMARY:Normes et gouvernement de l'Antiquité à nos jours
URL:https://calenda-formation.labocleo.org/245470
DESCRIPTION:Emprunté au latin integritas\, le terme « intégrité » est formé au début du xive siècle à partir d'entagriteiz (1279) et signifie « la totalité\, l'état d'être intact ; l'innocence\, la probité ». Dès le xve siècle\, il est employé pour décrire « l'état … Weitere Informationen https://calenda-formation.labocleo.org/245470
LOCATION:Dijon
END:VEVENT
BEGIN:VEVENT
DTSTART;VALUE=DATE:20130621
DTEND;VALUE=DATE:20130622
UID:245470-20130621@calenda.revues.org
SUMMARY:Normes et gouvernement de l'Antiquité à nos jours
URL:https://calenda-formation.labocleo.org/245470
DESCRIPTION:Emprunté au latin integritas\, le terme « intégrité » est formé au début du xive siècle à partir d'entagriteiz (1279) et signifie « la totalité\, l'état d'être intact ; l'innocence\, la probité ». Dès le xve siècle\, il est employé pour décrire « l'état … Weitere Informationen https://calenda-formation.labocleo.org/245470
LOCATION:Dijon
END:VEVENT
END:VCALENDAR
