BEGIN:VCALENDAR
VERSION:2.0
PRODID:-//https://calenda-formation.labocleo.org
X-WR-CALNAME:Calenda
X-WR-TIMEZONE:Europe/Paris
CALSCALE:GREGORIAN
X-WR-CALDESC:The calendar for arts, humanities and social sciences
METHOD:PUBLISH
BEGIN:VEVENT
DTSTART;VALUE=DATE:20130507
DTEND;VALUE=DATE:20130508
UID:245513-20130507@calenda.revues.org
SUMMARY:Manufacturers and merchants : making and exporting clocks and other luxury goods in the 18th century
URL:https://calenda-formation.labocleo.org/245513
DESCRIPTION:Roger Smith is an independent historian who was educated at the University of London. He was elected a Fellow of the Society of Antiquaries of London in 2006. He is chiefly interested in the organisation of the manufacture and sale of clocks\, watches… @plus_info https://calenda-formation.labocleo.org/245513
LOCATION:Neuchâtel
END:VEVENT
BEGIN:VEVENT
DTSTART;VALUE=DATE:20130514
DTEND;VALUE=DATE:20130515
UID:245513-20130514@calenda.revues.org
SUMMARY:Manufacturers and merchants : making and exporting clocks and other luxury goods in the 18th century
URL:https://calenda-formation.labocleo.org/245513
DESCRIPTION:Roger Smith is an independent historian who was educated at the University of London. He was elected a Fellow of the Society of Antiquaries of London in 2006. He is chiefly interested in the organisation of the manufacture and sale of clocks\, watches… @plus_info https://calenda-formation.labocleo.org/245513
LOCATION:Neuchâtel
END:VEVENT
BEGIN:VEVENT
DTSTART;VALUE=DATE:20130518
DTEND;VALUE=DATE:20130519
UID:245513-20130518@calenda.revues.org
SUMMARY:Manufacturers and merchants : making and exporting clocks and other luxury goods in the 18th century
URL:https://calenda-formation.labocleo.org/245513
DESCRIPTION:Roger Smith is an independent historian who was educated at the University of London. He was elected a Fellow of the Society of Antiquaries of London in 2006. He is chiefly interested in the organisation of the manufacture and sale of clocks\, watches… @plus_info https://calenda-formation.labocleo.org/245513
LOCATION:Neuchâtel
END:VEVENT
BEGIN:VEVENT
DTSTART;VALUE=DATE:20130521
DTEND;VALUE=DATE:20130522
UID:245513-20130521@calenda.revues.org
SUMMARY:Manufacturers and merchants : making and exporting clocks and other luxury goods in the 18th century
URL:https://calenda-formation.labocleo.org/245513
DESCRIPTION:Roger Smith is an independent historian who was educated at the University of London. He was elected a Fellow of the Society of Antiquaries of London in 2006. He is chiefly interested in the organisation of the manufacture and sale of clocks\, watches… @plus_info https://calenda-formation.labocleo.org/245513
LOCATION:Neuchâtel
END:VEVENT
BEGIN:VEVENT
DTSTART;VALUE=DATE:20130528
DTEND;VALUE=DATE:20130529
UID:245513-20130528@calenda.revues.org
SUMMARY:Manufacturers and merchants : making and exporting clocks and other luxury goods in the 18th century
URL:https://calenda-formation.labocleo.org/245513
DESCRIPTION:Roger Smith is an independent historian who was educated at the University of London. He was elected a Fellow of the Society of Antiquaries of London in 2006. He is chiefly interested in the organisation of the manufacture and sale of clocks\, watches… @plus_info https://calenda-formation.labocleo.org/245513
LOCATION:Neuchâtel
END:VEVENT
END:VCALENDAR
