BEGIN:VCALENDAR
VERSION:2.0
PRODID:-//https://calenda-formation.labocleo.org
X-WR-CALNAME:Calenda
X-WR-TIMEZONE:Europe/Paris
CALSCALE:GREGORIAN
X-WR-CALDESC:Le calendrier des lettres et sciences humaines et sociales
METHOD:PUBLISH
BEGIN:VEVENT
DTSTART;VALUE=DATE:20130510
DTEND;VALUE=DATE:20130511
UID:245619-20130510@calenda.revues.org
SUMMARY:Prix d'histoire économique « AFHE BNP Paribas »
URL:https://calenda-formation.labocleo.org/245619
DESCRIPTION:Le prix d’histoire économique « AFHE BNP Paribas » récompense deux docteurs de haut niveau ayant soutenu une thèse en sciences humaines et sociales dans le champ de l’histoire économique\, rédigée en langue française et sur des objets pouvant relever … @plus_info https://calenda-formation.labocleo.org/245619
LOCATION:
END:VEVENT
END:VCALENDAR
