BEGIN:VCALENDAR
VERSION:2.0
PRODID:-//https://calenda-formation.labocleo.org
X-WR-CALNAME:Calenda
X-WR-TIMEZONE:Europe/Paris
CALSCALE:GREGORIAN
X-WR-CALDESC:Le calendrier des lettres et sciences humaines et sociales
METHOD:PUBLISH
BEGIN:VEVENT
DTSTART;VALUE=DATE:20130506
DTEND;VALUE=DATE:20130507
UID:245846-20130506@calenda.revues.org
SUMMARY:Les origines de l'anthropologie moderne en Europe 
URL:https://calenda-formation.labocleo.org/245846
DESCRIPTION:La constitution d’une science de l’homme\, qui peut sans doute être considérée comme un des projets emblématiques des Lumières européennes se fonde sur un ensemble de querelles et de polémiques qui trouvent leurs racines dans une réception originale d… @plus_info https://calenda-formation.labocleo.org/245846
LOCATION:Madrid
END:VEVENT
BEGIN:VEVENT
DTSTART;VALUE=DATE:20130507
DTEND;VALUE=DATE:20130508
UID:245846-20130507@calenda.revues.org
SUMMARY:Les origines de l'anthropologie moderne en Europe 
URL:https://calenda-formation.labocleo.org/245846
DESCRIPTION:La constitution d’une science de l’homme\, qui peut sans doute être considérée comme un des projets emblématiques des Lumières européennes se fonde sur un ensemble de querelles et de polémiques qui trouvent leurs racines dans une réception originale d… @plus_info https://calenda-formation.labocleo.org/245846
LOCATION:Madrid
END:VEVENT
BEGIN:VEVENT
DTSTART;VALUE=DATE:20130508
DTEND;VALUE=DATE:20130509
UID:245846-20130508@calenda.revues.org
SUMMARY:Les origines de l'anthropologie moderne en Europe 
URL:https://calenda-formation.labocleo.org/245846
DESCRIPTION:La constitution d’une science de l’homme\, qui peut sans doute être considérée comme un des projets emblématiques des Lumières européennes se fonde sur un ensemble de querelles et de polémiques qui trouvent leurs racines dans une réception originale d… @plus_info https://calenda-formation.labocleo.org/245846
LOCATION:Madrid
END:VEVENT
END:VCALENDAR
