BEGIN:VCALENDAR
VERSION:2.0
PRODID:-//https://calenda-formation.labocleo.org
X-WR-CALNAME:Calenda
X-WR-TIMEZONE:Europe/Paris
CALSCALE:GREGORIAN
X-WR-CALDESC:O calendário de letras e de ciências sociais e humanas
METHOD:PUBLISH
BEGIN:VEVENT
DTSTART;VALUE=DATE:20130611
DTEND;VALUE=DATE:20130612
UID:246061-20130611@calenda.revues.org
SUMMARY:Protection sociale en Europe\, protection sociale et Europe
URL:https://calenda-formation.labocleo.org/246061
DESCRIPTION:Quelle influence des orientations économiques et du droit européen sur les systèmes de protection sociale nationaux ? Quelle place pour les systèmes et services sociaux dans le marché intérieur ? Quelles évolutions des systèmes nationaux de protectio… @plus_info https://calenda-formation.labocleo.org/246061
LOCATION:Rennes
END:VEVENT
END:VCALENDAR
