BEGIN:VCALENDAR
VERSION:2.0
PRODID:-//https://calenda-formation.labocleo.org
X-WR-CALNAME:Calenda
X-WR-TIMEZONE:Europe/Paris
CALSCALE:GREGORIAN
X-WR-CALDESC:The calendar for arts, humanities and social sciences
METHOD:PUBLISH
BEGIN:VEVENT
DTSTART;VALUE=DATE:20130627
DTEND;VALUE=DATE:20130628
UID:246431-20130627@calenda.revues.org
SUMMARY:8th e-learning study days
URL:https://calenda-formation.labocleo.org/246431
DESCRIPTION:Cette année\, la 8e édition des journées du e-learning se propose d'aborder la question de la réussite en e-learning. Le e-learning ne peut se réduire à une question de technologie au service de l'enseignement\, d'autres enjeux sont liés à son utilisat… @plus_info https://calenda-formation.labocleo.org/246431
LOCATION:Lyon
END:VEVENT
BEGIN:VEVENT
DTSTART;VALUE=DATE:20130628
DTEND;VALUE=DATE:20130629
UID:246431-20130628@calenda.revues.org
SUMMARY:8th e-learning study days
URL:https://calenda-formation.labocleo.org/246431
DESCRIPTION:Cette année\, la 8e édition des journées du e-learning se propose d'aborder la question de la réussite en e-learning. Le e-learning ne peut se réduire à une question de technologie au service de l'enseignement\, d'autres enjeux sont liés à son utilisat… @plus_info https://calenda-formation.labocleo.org/246431
LOCATION:Lyon
END:VEVENT
END:VCALENDAR
