BEGIN:VCALENDAR
VERSION:2.0
PRODID:-//https://calenda-formation.labocleo.org
X-WR-CALNAME:Calenda
X-WR-TIMEZONE:Europe/Paris
CALSCALE:GREGORIAN
X-WR-CALDESC:Le calendrier des lettres et sciences humaines et sociales
METHOD:PUBLISH
BEGIN:VEVENT
DTSTART;VALUE=DATE:20130531
DTEND;VALUE=DATE:20130601
UID:246674-20130531@calenda.revues.org
SUMMARY:Offre d'une bourse post-doctorale en technologies du numérique
URL:https://calenda-formation.labocleo.org/246674
DESCRIPTION:La direction de la recherche de l’ICP recrute un post-doctorant affecté au Centre Edouard Branly. Il s’agit d’une bourse d’une année (septembre 2013 – août 2014) renouvelable une année. … Más informaciones https://calenda-formation.labocleo.org/246674
LOCATION:París
END:VEVENT
END:VCALENDAR
