BEGIN:VCALENDAR
VERSION:2.0
PRODID:-//https://calenda-formation.labocleo.org
X-WR-CALNAME:Calenda
X-WR-TIMEZONE:Europe/Paris
CALSCALE:GREGORIAN
X-WR-CALDESC:Le calendrier des lettres et sciences humaines et sociales
METHOD:PUBLISH
BEGIN:VEVENT
DTSTART;VALUE=DATE:20130630
DTEND;VALUE=DATE:20130701
UID:246849-20130630@calenda.revues.org
SUMMARY:In-Corporate. The Human Sciences in Business History: between Naturalization and Legitimization (1880-1940)
URL:https://calenda-formation.labocleo.org/246849
DESCRIPTION:Even if human scientists and business executives like to argue otherwise\, the human sciences have always been in-corporated. Without them\, the modern business corporation would simply have been unimaginable\, just as the production and consumption of … Weitere Informationen https://calenda-formation.labocleo.org/246849
LOCATION:Löwen
END:VEVENT
END:VCALENDAR
