BEGIN:VCALENDAR
VERSION:2.0
PRODID:-//https://calenda-formation.labocleo.org
X-WR-CALNAME:Calenda
X-WR-TIMEZONE:Europe/Paris
CALSCALE:GREGORIAN
X-WR-CALDESC:The calendar for arts, humanities and social sciences
METHOD:PUBLISH
BEGIN:VEVENT
DTSTART;VALUE=DATE:20130513
DTEND;VALUE=DATE:20130514
UID:247136-20130513@calenda.revues.org
SUMMARY:Out of Culture. The Society by its Wastes 
URL:https://calenda-formation.labocleo.org/247136
DESCRIPTION:Si l’on accepte de considérer le phénomène culturel sous toutes ses acceptions\, parfois mêmes contradictoires (un ensemble cernable d’objets et pratiques versus «  the way to do things  »)\, il importe alors de saisir ce qui échappe à la culture ou ce… @plus_info https://calenda-formation.labocleo.org/247136
LOCATION:Marseille
END:VEVENT
BEGIN:VEVENT
DTSTART;VALUE=DATE:20130514
DTEND;VALUE=DATE:20130515
UID:247136-20130514@calenda.revues.org
SUMMARY:Out of Culture. The Society by its Wastes 
URL:https://calenda-formation.labocleo.org/247136
DESCRIPTION:Si l’on accepte de considérer le phénomène culturel sous toutes ses acceptions\, parfois mêmes contradictoires (un ensemble cernable d’objets et pratiques versus «  the way to do things  »)\, il importe alors de saisir ce qui échappe à la culture ou ce… @plus_info https://calenda-formation.labocleo.org/247136
LOCATION:Marseille
END:VEVENT
END:VCALENDAR
