BEGIN:VCALENDAR
VERSION:2.0
PRODID:-//https://calenda-formation.labocleo.org
X-WR-CALNAME:Calenda
X-WR-TIMEZONE:Europe/Paris
CALSCALE:GREGORIAN
X-WR-CALDESC:The calendar for arts, humanities and social sciences
METHOD:PUBLISH
BEGIN:VEVENT
DTSTART;VALUE=DATE:20130628
DTEND;VALUE=DATE:20130629
UID:247315-20130628@calenda.revues.org
SUMMARY:Law and psychoanalysis
URL:https://calenda-formation.labocleo.org/247315
DESCRIPTION:L’objet de ces journées sera de rapprocher psychanalyse et droit autour des notions de sujet\, de norme et d’interprétation. Il s’agira de mobiliser le potentiel critique de la psychanalyse afin d’éclairer la pratique du droit dans sa dimension créatr… @plus_info https://calenda-formation.labocleo.org/247315
LOCATION:Paris
END:VEVENT
BEGIN:VEVENT
DTSTART;VALUE=DATE:20130629
DTEND;VALUE=DATE:20130630
UID:247315-20130629@calenda.revues.org
SUMMARY:Law and psychoanalysis
URL:https://calenda-formation.labocleo.org/247315
DESCRIPTION:L’objet de ces journées sera de rapprocher psychanalyse et droit autour des notions de sujet\, de norme et d’interprétation. Il s’agira de mobiliser le potentiel critique de la psychanalyse afin d’éclairer la pratique du droit dans sa dimension créatr… @plus_info https://calenda-formation.labocleo.org/247315
LOCATION:Paris
END:VEVENT
END:VCALENDAR
