BEGIN:VCALENDAR
VERSION:2.0
PRODID:-//https://calenda-formation.labocleo.org
X-WR-CALNAME:Calenda
X-WR-TIMEZONE:Europe/Paris
CALSCALE:GREGORIAN
X-WR-CALDESC:The calendar for arts, humanities and social sciences
METHOD:PUBLISH
BEGIN:VEVENT
DTSTART;VALUE=DATE:20130603
DTEND;VALUE=DATE:20130604
UID:247417-20130603@calenda.revues.org
SUMMARY:2013 thesis prize at the Fondation Médéric Alzheimer
URL:https://calenda-formation.labocleo.org/247417
DESCRIPTION:Ce prix récompense les titulaires d’une thèse de doctorat en sciences humaines et sociales (anthropologie\, démographie\, droit\, économie\, philosophie\, psychologie\, sciences du langage\, sciences politiques\, sociologie) ou en santé publique portant sur … @plus_info https://calenda-formation.labocleo.org/247417
LOCATION:Paris
END:VEVENT
END:VCALENDAR
