BEGIN:VCALENDAR
VERSION:2.0
PRODID:-//https://calenda-formation.labocleo.org
X-WR-CALNAME:Calenda
X-WR-TIMEZONE:Europe/Paris
CALSCALE:GREGORIAN
X-WR-CALDESC:The calendar for arts, humanities and social sciences
METHOD:PUBLISH
BEGIN:VEVENT
DTSTART;VALUE=DATE:20130522
DTEND;VALUE=DATE:20130523
UID:247591-20130522@calenda.revues.org
SUMMARY:20th century religious buildings in the Île-de-France region
URL:https://calenda-formation.labocleo.org/247591
DESCRIPTION:En Île-de-France\, 75 lieux de culte relevant de différentes confessions viennent de se voir attribuer le Label Patrimoine du XXe siècle. Représentatifs des différents courants architecturaux du XXe siècle ainsi que de l'histoire propre à chaque relig… @plus_info https://calenda-formation.labocleo.org/247591
LOCATION:Paris
END:VEVENT
END:VCALENDAR
