BEGIN:VCALENDAR
VERSION:2.0
PRODID:-//https://calenda-formation.labocleo.org
X-WR-CALNAME:Calenda
X-WR-TIMEZONE:Europe/Paris
CALSCALE:GREGORIAN
X-WR-CALDESC:Le calendrier des lettres et sciences humaines et sociales
METHOD:PUBLISH
BEGIN:VEVENT
DTSTART;VALUE=DATE:20130531
DTEND;VALUE=DATE:20130601
UID:247620-20130531@calenda.revues.org
SUMMARY:Le sens du métier : identité et organisation dans les métiers d’art et d’industrie en France (XVIIe-XXe siècle)
URL:https://calenda-formation.labocleo.org/247620
DESCRIPTION:L'historiographie a longtemps fait de l'organisation corporative le pilier institutionnel du monde des métiers sous l'Ancien Régime\, s'enfermant ainsi dans un débat opposant « corporatisme » et « libéralisme »\, et faisant des lois de 1791 l'aboutisse… Weitere Informationen https://calenda-formation.labocleo.org/247620
LOCATION:Saint-Denis
END:VEVENT
END:VCALENDAR
