BEGIN:VCALENDAR
VERSION:2.0
PRODID:-//https://calenda-formation.labocleo.org
X-WR-CALNAME:Calenda
X-WR-TIMEZONE:Europe/Paris
CALSCALE:GREGORIAN
X-WR-CALDESC:The calendar for arts, humanities and social sciences
METHOD:PUBLISH
BEGIN:VEVENT
DTSTART;VALUE=DATE:20130630
DTEND;VALUE=DATE:20130701
UID:247925-20130630@calenda.revues.org
SUMMARY:Light in the Religions of the Book: A Multidisciplinary Approach
URL:https://calenda-formation.labocleo.org/247925
DESCRIPTION:If light is a valuable tool for the development of buildings\, it also meets the requirements of practical and functional needs.  Beyond its purely aesthetic role\, it is indeed a way to delineate the space and to organize its occupation by defining sp… @plus_info https://calenda-formation.labocleo.org/247925
LOCATION:Beirut
END:VEVENT
END:VCALENDAR
