BEGIN:VCALENDAR
VERSION:2.0
PRODID:-//https://calenda-formation.labocleo.org
X-WR-CALNAME:Calenda
X-WR-TIMEZONE:Europe/Paris
CALSCALE:GREGORIAN
X-WR-CALDESC:The calendar for arts, humanities and social sciences
METHOD:PUBLISH
BEGIN:VEVENT
DTSTART;VALUE=DATE:20130827
DTEND;VALUE=DATE:20130828
UID:248009-20130827@calenda.revues.org
SUMMARY:Reconstituting a medieval library today
URL:https://calenda-formation.labocleo.org/248009
DESCRIPTION:Cette formation de quatre jours est proposée à des étudiants de niveau Master 2 (au moins)\, français ou étrangers\, désireux de s'initier à l'histoire des bibliothèques médiévales\, à la saisie des informations dans une base de données\, au balisage TEI… @plus_info https://calenda-formation.labocleo.org/248009
LOCATION:Chartres
END:VEVENT
BEGIN:VEVENT
DTSTART;VALUE=DATE:20130828
DTEND;VALUE=DATE:20130829
UID:248009-20130828@calenda.revues.org
SUMMARY:Reconstituting a medieval library today
URL:https://calenda-formation.labocleo.org/248009
DESCRIPTION:Cette formation de quatre jours est proposée à des étudiants de niveau Master 2 (au moins)\, français ou étrangers\, désireux de s'initier à l'histoire des bibliothèques médiévales\, à la saisie des informations dans une base de données\, au balisage TEI… @plus_info https://calenda-formation.labocleo.org/248009
LOCATION:Chartres
END:VEVENT
BEGIN:VEVENT
DTSTART;VALUE=DATE:20130829
DTEND;VALUE=DATE:20130830
UID:248009-20130829@calenda.revues.org
SUMMARY:Reconstituting a medieval library today
URL:https://calenda-formation.labocleo.org/248009
DESCRIPTION:Cette formation de quatre jours est proposée à des étudiants de niveau Master 2 (au moins)\, français ou étrangers\, désireux de s'initier à l'histoire des bibliothèques médiévales\, à la saisie des informations dans une base de données\, au balisage TEI… @plus_info https://calenda-formation.labocleo.org/248009
LOCATION:Chartres
END:VEVENT
BEGIN:VEVENT
DTSTART;VALUE=DATE:20130830
DTEND;VALUE=DATE:20130831
UID:248009-20130830@calenda.revues.org
SUMMARY:Reconstituting a medieval library today
URL:https://calenda-formation.labocleo.org/248009
DESCRIPTION:Cette formation de quatre jours est proposée à des étudiants de niveau Master 2 (au moins)\, français ou étrangers\, désireux de s'initier à l'histoire des bibliothèques médiévales\, à la saisie des informations dans une base de données\, au balisage TEI… @plus_info https://calenda-formation.labocleo.org/248009
LOCATION:Chartres
END:VEVENT
BEGIN:VEVENT
DTSTART;VALUE=DATE:20130831
DTEND;VALUE=DATE:20130901
UID:248009-20130831@calenda.revues.org
SUMMARY:Reconstituting a medieval library today
URL:https://calenda-formation.labocleo.org/248009
DESCRIPTION:Cette formation de quatre jours est proposée à des étudiants de niveau Master 2 (au moins)\, français ou étrangers\, désireux de s'initier à l'histoire des bibliothèques médiévales\, à la saisie des informations dans une base de données\, au balisage TEI… @plus_info https://calenda-formation.labocleo.org/248009
LOCATION:Chartres
END:VEVENT
END:VCALENDAR
