BEGIN:VCALENDAR
VERSION:2.0
PRODID:-//https://calenda-formation.labocleo.org
X-WR-CALNAME:Calenda
X-WR-TIMEZONE:Europe/Paris
CALSCALE:GREGORIAN
X-WR-CALDESC:Le calendrier des lettres et sciences humaines et sociales
METHOD:PUBLISH
BEGIN:VEVENT
DTSTART;VALUE=DATE:20130516
DTEND;VALUE=DATE:20130517
UID:248107-20130516@calenda.revues.org
SUMMARY:Enseigner l'invention et la création dans les arts et les techniques
URL:https://calenda-formation.labocleo.org/248107
DESCRIPTION:L’objet du séminaire est de saisir\, à travers les lieux\, les méthodes et les supports pédagogiques\, les processus d’invention et de création en eux-mêmes. L’hypothèse principale étant que l’enseignement est un terrain privilégié d’étude de l’inventio… Weitere Informationen https://calenda-formation.labocleo.org/248107
LOCATION:Paris
END:VEVENT
BEGIN:VEVENT
DTSTART;VALUE=DATE:20130606
DTEND;VALUE=DATE:20130607
UID:248107-20130606@calenda.revues.org
SUMMARY:Enseigner l'invention et la création dans les arts et les techniques
URL:https://calenda-formation.labocleo.org/248107
DESCRIPTION:L’objet du séminaire est de saisir\, à travers les lieux\, les méthodes et les supports pédagogiques\, les processus d’invention et de création en eux-mêmes. L’hypothèse principale étant que l’enseignement est un terrain privilégié d’étude de l’inventio… Weitere Informationen https://calenda-formation.labocleo.org/248107
LOCATION:Paris
END:VEVENT
BEGIN:VEVENT
DTSTART;VALUE=DATE:20130926
DTEND;VALUE=DATE:20130927
UID:248107-20130926@calenda.revues.org
SUMMARY:Enseigner l'invention et la création dans les arts et les techniques
URL:https://calenda-formation.labocleo.org/248107
DESCRIPTION:L’objet du séminaire est de saisir\, à travers les lieux\, les méthodes et les supports pédagogiques\, les processus d’invention et de création en eux-mêmes. L’hypothèse principale étant que l’enseignement est un terrain privilégié d’étude de l’inventio… Weitere Informationen https://calenda-formation.labocleo.org/248107
LOCATION:Paris
END:VEVENT
BEGIN:VEVENT
DTSTART;VALUE=DATE:20131024
DTEND;VALUE=DATE:20131025
UID:248107-20131024@calenda.revues.org
SUMMARY:Enseigner l'invention et la création dans les arts et les techniques
URL:https://calenda-formation.labocleo.org/248107
DESCRIPTION:L’objet du séminaire est de saisir\, à travers les lieux\, les méthodes et les supports pédagogiques\, les processus d’invention et de création en eux-mêmes. L’hypothèse principale étant que l’enseignement est un terrain privilégié d’étude de l’inventio… Weitere Informationen https://calenda-formation.labocleo.org/248107
LOCATION:Paris
END:VEVENT
BEGIN:VEVENT
DTSTART;VALUE=DATE:20131205
DTEND;VALUE=DATE:20131206
UID:248107-20131205@calenda.revues.org
SUMMARY:Enseigner l'invention et la création dans les arts et les techniques
URL:https://calenda-formation.labocleo.org/248107
DESCRIPTION:L’objet du séminaire est de saisir\, à travers les lieux\, les méthodes et les supports pédagogiques\, les processus d’invention et de création en eux-mêmes. L’hypothèse principale étant que l’enseignement est un terrain privilégié d’étude de l’inventio… Weitere Informationen https://calenda-formation.labocleo.org/248107
LOCATION:Paris
END:VEVENT
END:VCALENDAR
