BEGIN:VCALENDAR
VERSION:2.0
PRODID:-//https://calenda-formation.labocleo.org
X-WR-CALNAME:Calenda
X-WR-TIMEZONE:Europe/Paris
CALSCALE:GREGORIAN
X-WR-CALDESC:The calendar for arts, humanities and social sciences
METHOD:PUBLISH
BEGIN:VEVENT
DTSTART;VALUE=DATE:20130530
DTEND;VALUE=DATE:20130531
UID:248204-20130530@calenda.revues.org
SUMMARY:Voice in Indirect Translation
URL:https://calenda-formation.labocleo.org/248204
DESCRIPTION:The University of Lisbon Centre for English Studies (ULICES) is delight to announce the call for papers for a two-day conference on 'Voice in Indirect Translation' (http://www.etc.ulices.org/jet/welcome.html)\, which will take place on July 10 and 11 … @plus_info https://calenda-formation.labocleo.org/248204
LOCATION:Lisbon
END:VEVENT
END:VCALENDAR
