BEGIN:VCALENDAR
VERSION:2.0
PRODID:-//https://calenda-formation.labocleo.org
X-WR-CALNAME:Calenda
X-WR-TIMEZONE:Europe/Paris
CALSCALE:GREGORIAN
X-WR-CALDESC:Le calendrier des lettres et sciences humaines et sociales
METHOD:PUBLISH
BEGIN:VEVENT
DTSTART;VALUE=DATE:20130610
DTEND;VALUE=DATE:20130611
UID:248428-20130610@calenda.revues.org
SUMMARY:Vérités et mensonges dans les sociétés orientales
URL:https://calenda-formation.labocleo.org/248428
DESCRIPTION:Le colloque\, organisé conjointement par le Collège de France\, la Société asiatique\, le Centre de recherche sur les civilisations de l'Asie orientales (CNRS UMR8155) et l'unité Proche Orient-Caucase (CNRS UMR7192) a pour objectif de réunir des spécial… @plus_info https://calenda-formation.labocleo.org/248428
LOCATION:Paris
END:VEVENT
BEGIN:VEVENT
DTSTART;VALUE=DATE:20130611
DTEND;VALUE=DATE:20130612
UID:248428-20130611@calenda.revues.org
SUMMARY:Vérités et mensonges dans les sociétés orientales
URL:https://calenda-formation.labocleo.org/248428
DESCRIPTION:Le colloque\, organisé conjointement par le Collège de France\, la Société asiatique\, le Centre de recherche sur les civilisations de l'Asie orientales (CNRS UMR8155) et l'unité Proche Orient-Caucase (CNRS UMR7192) a pour objectif de réunir des spécial… @plus_info https://calenda-formation.labocleo.org/248428
LOCATION:Paris
END:VEVENT
END:VCALENDAR
