BEGIN:VCALENDAR
VERSION:2.0
PRODID:-//https://calenda-formation.labocleo.org
X-WR-CALNAME:Calenda
X-WR-TIMEZONE:Europe/Paris
CALSCALE:GREGORIAN
X-WR-CALDESC:Le calendrier des lettres et sciences humaines et sociales
METHOD:PUBLISH
BEGIN:VEVENT
DTSTART;VALUE=DATE:20130517
DTEND;VALUE=DATE:20130518
UID:248562-20130517@calenda.revues.org
SUMMARY:Arcs-en-ciel et couleurs. Regards comparatifs
URL:https://calenda-formation.labocleo.org/248562
DESCRIPTION:Après la parution du volume collectif L’Antiquité en couleurs : catégories\, pratiques\, représentations\, issu de réflexions communes entamées depuis 2003\, les membres de l’atelier Chromo ont souhaité reprendre l’étude des couleurs afin d’approfondir l… Más informaciones https://calenda-formation.labocleo.org/248562
LOCATION:París
END:VEVENT
BEGIN:VEVENT
DTSTART;VALUE=DATE:20130518
DTEND;VALUE=DATE:20130519
UID:248562-20130518@calenda.revues.org
SUMMARY:Arcs-en-ciel et couleurs. Regards comparatifs
URL:https://calenda-formation.labocleo.org/248562
DESCRIPTION:Après la parution du volume collectif L’Antiquité en couleurs : catégories\, pratiques\, représentations\, issu de réflexions communes entamées depuis 2003\, les membres de l’atelier Chromo ont souhaité reprendre l’étude des couleurs afin d’approfondir l… Más informaciones https://calenda-formation.labocleo.org/248562
LOCATION:París
END:VEVENT
END:VCALENDAR
