BEGIN:VCALENDAR
VERSION:2.0
PRODID:-//https://calenda-formation.labocleo.org
X-WR-CALNAME:Calenda
X-WR-TIMEZONE:Europe/Paris
CALSCALE:GREGORIAN
X-WR-CALDESC:Le calendrier des lettres et sciences humaines et sociales
METHOD:PUBLISH
BEGIN:VEVENT
DTSTART;VALUE=DATE:20130605
DTEND;VALUE=DATE:20130606
UID:248575-20130605@calenda.revues.org
SUMMARY:Transmissions. Une communauté en héritage ? La sociologie et les sociologues français de 1970 à nos jours
URL:https://calenda-formation.labocleo.org/248575
DESCRIPTION:Alors que s’achève le retrait de la génération des baby boomers devenus papy / mamy boomers et que se confirme la relève dans le monde de la sociologie française\, il importe de faire le point sur les héritages. En s’appuyant sur l’observation des évo… Weitere Informationen https://calenda-formation.labocleo.org/248575
LOCATION:Paris
END:VEVENT
BEGIN:VEVENT
DTSTART;VALUE=DATE:20130606
DTEND;VALUE=DATE:20130607
UID:248575-20130606@calenda.revues.org
SUMMARY:Transmissions. Une communauté en héritage ? La sociologie et les sociologues français de 1970 à nos jours
URL:https://calenda-formation.labocleo.org/248575
DESCRIPTION:Alors que s’achève le retrait de la génération des baby boomers devenus papy / mamy boomers et que se confirme la relève dans le monde de la sociologie française\, il importe de faire le point sur les héritages. En s’appuyant sur l’observation des évo… Weitere Informationen https://calenda-formation.labocleo.org/248575
LOCATION:Paris
END:VEVENT
BEGIN:VEVENT
DTSTART;VALUE=DATE:20130607
DTEND;VALUE=DATE:20130608
UID:248575-20130607@calenda.revues.org
SUMMARY:Transmissions. Une communauté en héritage ? La sociologie et les sociologues français de 1970 à nos jours
URL:https://calenda-formation.labocleo.org/248575
DESCRIPTION:Alors que s’achève le retrait de la génération des baby boomers devenus papy / mamy boomers et que se confirme la relève dans le monde de la sociologie française\, il importe de faire le point sur les héritages. En s’appuyant sur l’observation des évo… Weitere Informationen https://calenda-formation.labocleo.org/248575
LOCATION:Paris
END:VEVENT
END:VCALENDAR
