BEGIN:VCALENDAR
VERSION:2.0
PRODID:-//https://calenda-formation.labocleo.org
X-WR-CALNAME:Calenda
X-WR-TIMEZONE:Europe/Paris
CALSCALE:GREGORIAN
X-WR-CALDESC:The calendar for arts, humanities and social sciences
METHOD:PUBLISH
BEGIN:VEVENT
DTSTART;VALUE=DATE:20130531
DTEND;VALUE=DATE:20130601
UID:248761-20130531@calenda.revues.org
SUMMARY:The birth of Michel Foucault's clinic: 50 years later
URL:https://calenda-formation.labocleo.org/248761
DESCRIPTION:Cinquante ans après sa publication qu'en est-il de Naissance de la clinique\, ce livre que Michel Foucault disait avoir composé avec les « chutes » d'Histoire de la folie ? Des jeunes chercheurs\, des philosophes et des historiens de la médecine nous l… @plus_info https://calenda-formation.labocleo.org/248761
LOCATION:Paris
END:VEVENT
BEGIN:VEVENT
DTSTART;VALUE=DATE:20130601
DTEND;VALUE=DATE:20130602
UID:248761-20130601@calenda.revues.org
SUMMARY:The birth of Michel Foucault's clinic: 50 years later
URL:https://calenda-formation.labocleo.org/248761
DESCRIPTION:Cinquante ans après sa publication qu'en est-il de Naissance de la clinique\, ce livre que Michel Foucault disait avoir composé avec les « chutes » d'Histoire de la folie ? Des jeunes chercheurs\, des philosophes et des historiens de la médecine nous l… @plus_info https://calenda-formation.labocleo.org/248761
LOCATION:Paris
END:VEVENT
END:VCALENDAR
