BEGIN:VCALENDAR
VERSION:2.0
PRODID:-//https://calenda-formation.labocleo.org
X-WR-CALNAME:Calenda
X-WR-TIMEZONE:Europe/Paris
CALSCALE:GREGORIAN
X-WR-CALDESC:Le calendrier des lettres et sciences humaines et sociales
METHOD:PUBLISH
BEGIN:VEVENT
DTSTART;VALUE=DATE:20130705
DTEND;VALUE=DATE:20130706
UID:249345-20130705@calenda.revues.org
SUMMARY:Concevoir la ville pour vivre le temps
URL:https://calenda-formation.labocleo.org/249345
DESCRIPTION:Aujourd'hui\, de multiples temporalités urbaines\, générées tant par la ville elle-même que par ses résidents\, interfèrent avec l'organisation du territoire. Ainsi\, le temps et l'espace se combinent pour modeler nos métropoles et ont fait naître de nom… Más informaciones https://calenda-formation.labocleo.org/249345
LOCATION:Lausana
END:VEVENT
END:VCALENDAR
