BEGIN:VCALENDAR
VERSION:2.0
PRODID:-//https://calenda-formation.labocleo.org
X-WR-CALNAME:Calenda
X-WR-TIMEZONE:Europe/Paris
CALSCALE:GREGORIAN
X-WR-CALDESC:The calendar for arts, humanities and social sciences
METHOD:PUBLISH
BEGIN:VEVENT
DTSTART;VALUE=DATE:20130529
DTEND;VALUE=DATE:20130530
UID:249778-20130529@calenda.revues.org
SUMMARY:The fragmentation and / or vitality of Judaism today? Minorities within minorities
URL:https://calenda-formation.labocleo.org/249778
DESCRIPTION:Ces journées sont conçues comme un temps de mise au point de l’état des lieux du judaïsme en France. A côté du Consistoire\, mis en place par Napoléon 1er dès 1808\, institution qui s’est maintenue après la Loi de séparation des Églises et de l’État en… @plus_info https://calenda-formation.labocleo.org/249778
LOCATION:Paris
END:VEVENT
BEGIN:VEVENT
DTSTART;VALUE=DATE:20130530
DTEND;VALUE=DATE:20130531
UID:249778-20130530@calenda.revues.org
SUMMARY:The fragmentation and / or vitality of Judaism today? Minorities within minorities
URL:https://calenda-formation.labocleo.org/249778
DESCRIPTION:Ces journées sont conçues comme un temps de mise au point de l’état des lieux du judaïsme en France. A côté du Consistoire\, mis en place par Napoléon 1er dès 1808\, institution qui s’est maintenue après la Loi de séparation des Églises et de l’État en… @plus_info https://calenda-formation.labocleo.org/249778
LOCATION:Paris
END:VEVENT
END:VCALENDAR
