BEGIN:VCALENDAR
VERSION:2.0
PRODID:-//https://calenda-formation.labocleo.org
X-WR-CALNAME:Calenda
X-WR-TIMEZONE:Europe/Paris
CALSCALE:GREGORIAN
X-WR-CALDESC:The calendar for arts, humanities and social sciences
METHOD:PUBLISH
BEGIN:VEVENT
DTSTART;VALUE=DATE:20130525
DTEND;VALUE=DATE:20130526
UID:250272-20130525@calenda.revues.org
SUMMARY:New migrations in the Mediterranean
URL:https://calenda-formation.labocleo.org/250272
DESCRIPTION:Les bouleversements socio-économiques et les révolutions qui ont affecté les sociétés méditerranéennes ont-ils engendré de nouveaux flux migratoires vers le l’Europe ? Quels sont les facteurs déterminant de ces changements ? En quoi ces nouvelles mig… @plus_info https://calenda-formation.labocleo.org/250272
LOCATION:Paris
END:VEVENT
END:VCALENDAR
