BEGIN:VCALENDAR
VERSION:2.0
PRODID:-//https://calenda-formation.labocleo.org
X-WR-CALNAME:Calenda
X-WR-TIMEZONE:Europe/Paris
CALSCALE:GREGORIAN
X-WR-CALDESC:The calendar for arts, humanities and social sciences
METHOD:PUBLISH
BEGIN:VEVENT
DTSTART;VALUE=DATE:20130916
DTEND;VALUE=DATE:20130917
UID:250329-20130916@calenda.revues.org
SUMMARY:The Seine\, a valley\, imaginary worlds
URL:https://calenda-formation.labocleo.org/250329
DESCRIPTION:Ce colloque interdisciplinaire pose la question des  représentations de l’axe Seine sur le temps long de l’histoire\, depuis les hautes périodes jusqu’à l’époque contemporaine. Espace d’échanges commerciaux et culturels\, lieu de production et lien nav… @plus_info https://calenda-formation.labocleo.org/250329
LOCATION:Rouen
END:VEVENT
BEGIN:VEVENT
DTSTART;VALUE=DATE:20130917
DTEND;VALUE=DATE:20130918
UID:250329-20130917@calenda.revues.org
SUMMARY:The Seine\, a valley\, imaginary worlds
URL:https://calenda-formation.labocleo.org/250329
DESCRIPTION:Ce colloque interdisciplinaire pose la question des  représentations de l’axe Seine sur le temps long de l’histoire\, depuis les hautes périodes jusqu’à l’époque contemporaine. Espace d’échanges commerciaux et culturels\, lieu de production et lien nav… @plus_info https://calenda-formation.labocleo.org/250329
LOCATION:Rouen
END:VEVENT
END:VCALENDAR
